BEGIN:VCALENDAR
VERSION:2.0
PRODID:-//Ferg&#039;s Sports Bar &amp; Grill - ECPv6.15.15//NONSGML v1.0//EN
CALSCALE:GREGORIAN
METHOD:PUBLISH
X-WR-CALNAME:Ferg&#039;s Sports Bar &amp; Grill
X-ORIGINAL-URL:https://fergssportsbar.com
X-WR-CALDESC:Events for Ferg&#039;s Sports Bar &amp; Grill
REFRESH-INTERVAL;VALUE=DURATION:PT1H
X-Robots-Tag:noindex
X-PUBLISHED-TTL:PT1H
BEGIN:VTIMEZONE
TZID:America/New_York
BEGIN:DAYLIGHT
TZOFFSETFROM:-0500
TZOFFSETTO:-0400
TZNAME:EDT
DTSTART:20250309T070000
END:DAYLIGHT
BEGIN:STANDARD
TZOFFSETFROM:-0400
TZOFFSETTO:-0500
TZNAME:EST
DTSTART:20251102T060000
END:STANDARD
BEGIN:DAYLIGHT
TZOFFSETFROM:-0500
TZOFFSETTO:-0400
TZNAME:EDT
DTSTART:20260308T070000
END:DAYLIGHT
BEGIN:STANDARD
TZOFFSETFROM:-0400
TZOFFSETTO:-0500
TZNAME:EST
DTSTART:20261101T060000
END:STANDARD
BEGIN:DAYLIGHT
TZOFFSETFROM:-0500
TZOFFSETTO:-0400
TZNAME:EDT
DTSTART:20270314T070000
END:DAYLIGHT
BEGIN:STANDARD
TZOFFSETFROM:-0400
TZOFFSETTO:-0500
TZNAME:EST
DTSTART:20271107T060000
END:STANDARD
END:VTIMEZONE
BEGIN:VEVENT
DTSTART;TZID=America/New_York:20260501T190000
DTEND;TZID=America/New_York:20260501T220000
DTSTAMP:20260423T074336
CREATED:20260420T204110Z
LAST-MODIFIED:20260420T204110Z
UID:10004225-1777662000-1777672800@fergssportsbar.com
SUMMARY:Rays vs Giants
DESCRIPTION:
URL:https://fergssportsbar.com/event/rays-vs-giants-4/
CATEGORIES:Baseball
END:VEVENT
BEGIN:VEVENT
DTSTART;TZID=America/New_York:20260501T210000
DTEND;TZID=America/New_York:20260501T230000
DTSTAMP:20260423T074336
CREATED:20260420T204447Z
LAST-MODIFIED:20260420T204447Z
UID:10004229-1777669200-1777676400@fergssportsbar.com
SUMMARY:Fulcos
DESCRIPTION:
URL:https://fergssportsbar.com/event/fulcos-9/
CATEGORIES:Live Music
END:VEVENT
BEGIN:VEVENT
DTSTART;TZID=America/New_York:20260501T210000
DTEND;TZID=America/New_York:20260501T233000
DTSTAMP:20260423T074336
CREATED:20260420T204401Z
LAST-MODIFIED:20260420T204401Z
UID:10004228-1777669200-1777678200@fergssportsbar.com
SUMMARY:1st Friday Djs Party in the Clubhouse
DESCRIPTION:
URL:https://fergssportsbar.com/event/1st-friday-djs-party-in-the-clubhouse/
CATEGORIES:Baseball
END:VEVENT
END:VCALENDAR