BEGIN:VCALENDAR
VERSION:2.0
PRODID:-//Ferg&#039;s Sports Bar &amp; Grill - ECPv6.15.15//NONSGML v1.0//EN
CALSCALE:GREGORIAN
METHOD:PUBLISH
X-ORIGINAL-URL:https://fergssportsbar.com
X-WR-CALDESC:Events for Ferg&#039;s Sports Bar &amp; Grill
REFRESH-INTERVAL;VALUE=DURATION:PT1H
X-Robots-Tag:noindex
X-PUBLISHED-TTL:PT1H
BEGIN:VTIMEZONE
TZID:America/New_York
BEGIN:DAYLIGHT
TZOFFSETFROM:-0500
TZOFFSETTO:-0400
TZNAME:EDT
DTSTART:20230312T070000
END:DAYLIGHT
BEGIN:STANDARD
TZOFFSETFROM:-0400
TZOFFSETTO:-0500
TZNAME:EST
DTSTART:20231105T060000
END:STANDARD
BEGIN:DAYLIGHT
TZOFFSETFROM:-0500
TZOFFSETTO:-0400
TZNAME:EDT
DTSTART:20240310T070000
END:DAYLIGHT
BEGIN:STANDARD
TZOFFSETFROM:-0400
TZOFFSETTO:-0500
TZNAME:EST
DTSTART:20241103T060000
END:STANDARD
BEGIN:DAYLIGHT
TZOFFSETFROM:-0500
TZOFFSETTO:-0400
TZNAME:EDT
DTSTART:20250309T070000
END:DAYLIGHT
BEGIN:STANDARD
TZOFFSETFROM:-0400
TZOFFSETTO:-0500
TZNAME:EST
DTSTART:20251102T060000
END:STANDARD
END:VTIMEZONE
BEGIN:VEVENT
DTSTART;TZID=America/New_York:20240323T140000
DTEND;TZID=America/New_York:20240323T200000
DTSTAMP:20260423T142009
CREATED:20240304T193323Z
LAST-MODIFIED:20240304T193323Z
UID:10003111-1711202400-1711224000@fergssportsbar.com
SUMMARY:Brews Bands and Buds St. Pete Market
DESCRIPTION:Join us for a St. Pete market hosted by Cherried featuring Rich Seldon Music on March 23rd from 2pm-8pm for some relaxation\, fun and quality time.
URL:https://fergssportsbar.com/event/brews-bands-and-buds-st-pete-market/
LOCATION:1320 Central Avenue\, St. Petersburg\, 33705\, United States
CATEGORIES:Special Events
END:VEVENT
END:VCALENDAR